BEGIN:VCALENDAR
VERSION:2.0
PRODID:-//Biodanzaschool Amsterdam - ECPv4.9.9//NONSGML v1.0//EN
CALSCALE:GREGORIAN
METHOD:PUBLISH
X-WR-CALNAME:Biodanzaschool Amsterdam
X-ORIGINAL-URL:https://www.biodanzaschoolamsterdam.nl
X-WR-CALDESC:Events for Biodanzaschool Amsterdam
BEGIN:VTIMEZONE
TZID:UTC
BEGIN:STANDARD
TZOFFSETFROM:+0000
TZOFFSETTO:+0000
TZNAME:UTC
DTSTART:20190101T000000
END:STANDARD
END:VTIMEZONE
BEGIN:VEVENT
DTSTART;TZID=UTC:20190707T100000
DTEND;TZID=UTC:20190707T190000
DTSTAMP:20260425T023628
CREATED:20190425T130036Z
LAST-MODIFIED:20190425T130036Z
UID:577-1562493600-1562526000@www.biodanzaschoolamsterdam.nl
SUMMARY:Biodanza festival Amsterdam
DESCRIPTION:Met vivencia’s door docenten uit het hele land.\nBinnenkomst 10 uur\, start eerste workshop om 11 uur. Kom op tijd\, je kunt vantevoren inschrijven op verschillende workshops.\nHele dag dansen en aan het einde van de dag een heerlijk dinerbuffet. \naanmelden en meer info op www.mirrorcentre.nl/events \n
URL:https://www.biodanzaschoolamsterdam.nl/dans/biodanza-festival-amsterdam/
CATEGORIES:dansdagen en weekenden
ORGANIZER;CN="Els%20Boon":MAILTO:elsboonbiodanza@gmail.com
END:VEVENT
END:VCALENDAR